BEGIN:VCALENDAR
VERSION:2.0
PRODID:-//Theux Tourisme - ECPv6.10.2//NONSGML v1.0//EN
CALSCALE:GREGORIAN
METHOD:PUBLISH
X-WR-CALNAME:Theux Tourisme
X-ORIGINAL-URL:http://www.sitheux.be
X-WR-CALDESC:Évènements pour Theux Tourisme
REFRESH-INTERVAL;VALUE=DURATION:PT1H
X-Robots-Tag:noindex
X-PUBLISHED-TTL:PT1H
BEGIN:VTIMEZONE
TZID:Europe/Brussels
BEGIN:DAYLIGHT
TZOFFSETFROM:+0100
TZOFFSETTO:+0200
TZNAME:CEST
DTSTART:20260329T010000
END:DAYLIGHT
BEGIN:STANDARD
TZOFFSETFROM:+0200
TZOFFSETTO:+0100
TZNAME:CET
DTSTART:20261025T010000
END:STANDARD
BEGIN:DAYLIGHT
TZOFFSETFROM:+0100
TZOFFSETTO:+0200
TZNAME:CEST
DTSTART:20270328T010000
END:DAYLIGHT
BEGIN:STANDARD
TZOFFSETFROM:+0200
TZOFFSETTO:+0100
TZNAME:CET
DTSTART:20271031T010000
END:STANDARD
BEGIN:DAYLIGHT
TZOFFSETFROM:+0100
TZOFFSETTO:+0200
TZNAME:CEST
DTSTART:20280326T010000
END:DAYLIGHT
BEGIN:STANDARD
TZOFFSETFROM:+0200
TZOFFSETTO:+0100
TZNAME:CET
DTSTART:20281029T010000
END:STANDARD
BEGIN:DAYLIGHT
TZOFFSETFROM:+0100
TZOFFSETTO:+0200
TZNAME:CEST
DTSTART:20290325T010000
END:DAYLIGHT
BEGIN:STANDARD
TZOFFSETFROM:+0200
TZOFFSETTO:+0100
TZNAME:CET
DTSTART:20291028T010000
END:STANDARD
BEGIN:DAYLIGHT
TZOFFSETFROM:+0100
TZOFFSETTO:+0200
TZNAME:CEST
DTSTART:20300331T010000
END:DAYLIGHT
BEGIN:STANDARD
TZOFFSETFROM:+0200
TZOFFSETTO:+0100
TZNAME:CET
DTSTART:20301027T010000
END:STANDARD
END:VTIMEZONE
BEGIN:VEVENT
DTSTART;TZID=Europe/Brussels:20260912T170000
DTEND;TZID=Europe/Brussels:20260913T010000
DTSTAMP:20260421T141106
CREATED:20250408T103928Z
LAST-MODIFIED:20260120T130859Z
UID:10000479-1789232400-1789261200@www.sitheux.be
SUMMARY:Garden Party
DESCRIPTION:Garden Party\, 9è édition\nOn te dit tout ci-dessous : : Parc Chinrue : ambiance chill\, musique\, cocktails\, soleil et nos dj’s* 17h30 : * 19h30 : * 22h00 : * 23h30 : 𝓟𝓪𝓽𝓲𝓮𝓷𝓬𝓮\, les noms arrivent \n : 16h00 • 01h00 : 5€/personne Sur prévente uniquement
URL:http://www.sitheux.be/event/garden-party/2026-09-12/
LOCATION:Parc Chinrue\, Rue hinrue\, Theux\, 4910
ATTACH;FMTTYPE=image/png:http://www.sitheux.be/wp-content/uploads/2025/04/Event-FB-tarif.png
ORGANIZER;CN="SI Theux":MAILTO:info@sitheux.be
END:VEVENT
BEGIN:VEVENT
DTSTART;TZID=Europe/Brussels:20270911T170000
DTEND;TZID=Europe/Brussels:20270912T010000
DTSTAMP:20260421T141106
CREATED:20250408T103928Z
LAST-MODIFIED:20260120T130859Z
UID:10000480-1820682000-1820710800@www.sitheux.be
SUMMARY:Garden Party
DESCRIPTION:Garden Party\, 9è édition\nOn te dit tout ci-dessous : : Parc Chinrue : ambiance chill\, musique\, cocktails\, soleil et nos dj’s* 17h30 : * 19h30 : * 22h00 : * 23h30 : 𝓟𝓪𝓽𝓲𝓮𝓷𝓬𝓮\, les noms arrivent \n : 16h00 • 01h00 : 5€/personne Sur prévente uniquement
URL:http://www.sitheux.be/event/garden-party/2027-09-11/
LOCATION:Parc Chinrue\, Rue hinrue\, Theux\, 4910
ATTACH;FMTTYPE=image/png:http://www.sitheux.be/wp-content/uploads/2025/04/Event-FB-tarif.png
ORGANIZER;CN="SI Theux":MAILTO:info@sitheux.be
END:VEVENT
BEGIN:VEVENT
DTSTART;TZID=Europe/Brussels:20280909T170000
DTEND;TZID=Europe/Brussels:20280910T010000
DTSTAMP:20260421T141106
CREATED:20250408T103928Z
LAST-MODIFIED:20260120T130859Z
UID:10000481-1852131600-1852160400@www.sitheux.be
SUMMARY:Garden Party
DESCRIPTION:Garden Party\, 9è édition\nOn te dit tout ci-dessous : : Parc Chinrue : ambiance chill\, musique\, cocktails\, soleil et nos dj’s* 17h30 : * 19h30 : * 22h00 : * 23h30 : 𝓟𝓪𝓽𝓲𝓮𝓷𝓬𝓮\, les noms arrivent \n : 16h00 • 01h00 : 5€/personne Sur prévente uniquement
URL:http://www.sitheux.be/event/garden-party/2028-09-09/
LOCATION:Parc Chinrue\, Rue hinrue\, Theux\, 4910
ATTACH;FMTTYPE=image/png:http://www.sitheux.be/wp-content/uploads/2025/04/Event-FB-tarif.png
ORGANIZER;CN="SI Theux":MAILTO:info@sitheux.be
END:VEVENT
BEGIN:VEVENT
DTSTART;TZID=Europe/Brussels:20290908T170000
DTEND;TZID=Europe/Brussels:20290909T010000
DTSTAMP:20260421T141106
CREATED:20250408T103928Z
LAST-MODIFIED:20260120T130859Z
UID:10000482-1883581200-1883610000@www.sitheux.be
SUMMARY:Garden Party
DESCRIPTION:Garden Party\, 9è édition\nOn te dit tout ci-dessous : : Parc Chinrue : ambiance chill\, musique\, cocktails\, soleil et nos dj’s* 17h30 : * 19h30 : * 22h00 : * 23h30 : 𝓟𝓪𝓽𝓲𝓮𝓷𝓬𝓮\, les noms arrivent \n : 16h00 • 01h00 : 5€/personne Sur prévente uniquement
URL:http://www.sitheux.be/event/garden-party/2029-09-08/
LOCATION:Parc Chinrue\, Rue hinrue\, Theux\, 4910
ATTACH;FMTTYPE=image/png:http://www.sitheux.be/wp-content/uploads/2025/04/Event-FB-tarif.png
ORGANIZER;CN="SI Theux":MAILTO:info@sitheux.be
END:VEVENT
BEGIN:VEVENT
DTSTART;TZID=Europe/Brussels:20300914T170000
DTEND;TZID=Europe/Brussels:20300915T010000
DTSTAMP:20260421T141106
CREATED:20250408T103928Z
LAST-MODIFIED:20260120T130859Z
UID:10000483-1915635600-1915664400@www.sitheux.be
SUMMARY:Garden Party
DESCRIPTION:Garden Party\, 9è édition\nOn te dit tout ci-dessous : : Parc Chinrue : ambiance chill\, musique\, cocktails\, soleil et nos dj’s* 17h30 : * 19h30 : * 22h00 : * 23h30 : 𝓟𝓪𝓽𝓲𝓮𝓷𝓬𝓮\, les noms arrivent \n : 16h00 • 01h00 : 5€/personne Sur prévente uniquement
URL:http://www.sitheux.be/event/garden-party/2030-09-14/
LOCATION:Parc Chinrue\, Rue hinrue\, Theux\, 4910
ATTACH;FMTTYPE=image/png:http://www.sitheux.be/wp-content/uploads/2025/04/Event-FB-tarif.png
ORGANIZER;CN="SI Theux":MAILTO:info@sitheux.be
END:VEVENT
END:VCALENDAR