BEGIN:VCALENDAR
VERSION:2.0
PRODID:-//Theux Tourisme - ECPv6.10.2//NONSGML v1.0//EN
CALSCALE:GREGORIAN
METHOD:PUBLISH
X-WR-CALNAME:Theux Tourisme
X-ORIGINAL-URL:http://www.sitheux.be
X-WR-CALDESC:Évènements pour Theux Tourisme
REFRESH-INTERVAL;VALUE=DURATION:PT1H
X-Robots-Tag:noindex
X-PUBLISHED-TTL:PT1H
BEGIN:VTIMEZONE
TZID:Europe/Brussels
BEGIN:DAYLIGHT
TZOFFSETFROM:+0100
TZOFFSETTO:+0200
TZNAME:CEST
DTSTART:20250330T010000
END:DAYLIGHT
BEGIN:STANDARD
TZOFFSETFROM:+0200
TZOFFSETTO:+0100
TZNAME:CET
DTSTART:20251026T010000
END:STANDARD
END:VTIMEZONE
BEGIN:VEVENT
DTSTART;TZID=Europe/Brussels:20250718T100000
DTEND;TZID=Europe/Brussels:20250721T170000
DTSTAMP:20260426T031612
CREATED:20250624T122621Z
LAST-MODIFIED:20250624T122621Z
UID:10000271-1752832800-1753117200@www.sitheux.be
SUMMARY:Reconstitution historique à Tancrémont\, les 18-19-20 et 21 juillet
DESCRIPTION:Le 300ième ECBR\, Engineer Combat Battalion Reconstitution\, est un groupe de reconstitution historique installé dans le zoning de Harzé-Aywaille. \nIls ont décidé en collaboration avec l’Amical du Fort de Tancrémont\, la FNC section Theux\, en collaboration avec les villes de Theux et de Pepinster\, de proposer un événement sur le site du Fort de Tancrémont. \nDès le 18 juillet\, vous pourrez visiter les campements en installation ainsi que le pont de type qui vous permettra de franchir le fossé défensif du Fort. De nombreux groupes de reconstituteurs sont attendus\, et à partir du samedi 19 juillet\, vous pourrez découvrir leurs présentations (displays) telles que le plus grand hôpital jamais reconstitué en Europe\, un centre radio de transmissions de campagne\, un poste de la police militaire US\, un campement de l’armée allemande\, des cantonnements de troupes américaines et bien évidemment une multitude de véhicules. Ceux-ci parcourront\, d’ailleurs\, la région au travers de balades tout au long du week-end. Des pilotes privés de piper participeront aussi à l’événement par des survols du Fort de Tancrémont. \nLe samedi\, des visites guidées du Fort\, et du musée de celui-ci\, vous seront proposées. Une des coupoles d’artillerie effectuera des tirs à 11 h et 15 h. \nVous pourrez\, encore\, applaudir les Marie Claire qui seront présentes sur l’événement pour deux concerts chaque jour ; l’après-midi à 16h et en soirée. \nL’entrée du site est gratuite et un parking-prairie payant de 800 places sera organisé. \nBars et restauration seront possibles. Un événement exceptionnel à ne rater sous aucun prétexte ! \nFort de Tancrémont
URL:http://www.sitheux.be/event/reconstitution-historique-a-tancremont-les-18-19-20-et-21-juillet/
LOCATION:Fort de Tancrémont\, Route de Tancrémont\, Theux\, 4910
ATTACH;FMTTYPE=image/png:http://www.sitheux.be/wp-content/uploads/2025/06/tancreont-18-21-juillet-25.png
ORGANIZER;CN="FNC Theux":MAILTO:fncsectiontheux@gmail.com
END:VEVENT
END:VCALENDAR