BEGIN:VCALENDAR
VERSION:2.0
PRODID:-//Theux Tourisme - ECPv6.10.2//NONSGML v1.0//EN
CALSCALE:GREGORIAN
METHOD:PUBLISH
X-WR-CALNAME:Theux Tourisme
X-ORIGINAL-URL:http://www.sitheux.be
X-WR-CALDESC:Évènements pour Theux Tourisme
REFRESH-INTERVAL;VALUE=DURATION:PT1H
X-Robots-Tag:noindex
X-PUBLISHED-TTL:PT1H
BEGIN:VTIMEZONE
TZID:Europe/Brussels
BEGIN:DAYLIGHT
TZOFFSETFROM:+0100
TZOFFSETTO:+0200
TZNAME:CEST
DTSTART:20260329T010000
END:DAYLIGHT
BEGIN:STANDARD
TZOFFSETFROM:+0200
TZOFFSETTO:+0100
TZNAME:CET
DTSTART:20261025T010000
END:STANDARD
END:VTIMEZONE
BEGIN:VEVENT
DTSTART;TZID=Europe/Brussels:20260524T093000
DTEND;TZID=Europe/Brussels:20260524T180000
DTSTAMP:20260420T201419
CREATED:20250526T090403Z
LAST-MODIFIED:20260114T094212Z
UID:10000233-1779615000-1779645600@www.sitheux.be
SUMMARY:Ardennes Trophy
DESCRIPTION:Déroulement de la journée et lignes de départs\nLe campus arboré de l’IPEA sur les hauteurs de LA REID va vivre à l’heure du VTT durant ce long week-end de Pentecôte avec\, le dimanche \, le 35e Ardennes Trophy et\, le lundi \, la 7e manche du Kids MTB Challenge. \n\n07h30 -> 09h30 – Retrait des plaques et inscriptions Ardennes Trophy\n09h30 -> 09h45 – Départ 65 km\n10h00 -> 10h15 – Départ 95 km\n10h30 -> 10h45 – Départ 45 km\n\nLe lundi 25/5\, le Kids Trophy accueil la compétition pour les enfants de 6 à 15 ans\n-> successions de courses toute la journée dans les bois avoisinant l’école \nHEPL – Campus La Reid
URL:http://www.sitheux.be/event/ardennes-trophy/
LOCATION:HEPL – Campus La Reid\, Rue Haftay 21\, Theux\, 4910
ATTACH;FMTTYPE=image/png:http://www.sitheux.be/wp-content/uploads/2025/05/ARDENNES-TROPHY-25.png
ORGANIZER;CN="Ardennes Mountain Bike Theux":MAILTO:info@ardennes-trophy.be
END:VEVENT
BEGIN:VEVENT
DTSTART;TZID=Europe/Brussels:20260525T090000
DTEND;TZID=Europe/Brussels:20260525T170000
DTSTAMP:20260420T201419
CREATED:20260114T093941Z
LAST-MODIFIED:20260114T094116Z
UID:10000470-1779699600-1779728400@www.sitheux.be
SUMMARY:Kids Trophy
DESCRIPTION:Le lundi 25/5\, le Kids Trophy accueil la compétition pour les enfants de 6 à 15 ans\n-> successions de courses toute la journée dans les bois avoisinant l’école \nHEPL – Campus La Reid
URL:http://www.sitheux.be/event/kids-trophy/
LOCATION:HEPL – Campus La Reid\, Rue Haftay 21\, Theux\, 4910
ATTACH;FMTTYPE=image/png:http://www.sitheux.be/wp-content/uploads/2025/05/ARDENNES-TROPHY-25.png
ORGANIZER;CN="Ardennes Mountain Bike Theux":MAILTO:info@ardennes-trophy.be
END:VEVENT
END:VCALENDAR