BEGIN:VCALENDAR
VERSION:2.0
PRODID:-//Theux Tourisme - ECPv6.10.2//NONSGML v1.0//EN
CALSCALE:GREGORIAN
METHOD:PUBLISH
X-ORIGINAL-URL:http://www.sitheux.be
X-WR-CALDESC:Évènements pour Theux Tourisme
REFRESH-INTERVAL;VALUE=DURATION:PT1H
X-Robots-Tag:noindex
X-PUBLISHED-TTL:PT1H
BEGIN:VTIMEZONE
TZID:Europe/Brussels
BEGIN:DAYLIGHT
TZOFFSETFROM:+0100
TZOFFSETTO:+0200
TZNAME:CEST
DTSTART:20250330T010000
END:DAYLIGHT
BEGIN:STANDARD
TZOFFSETFROM:+0200
TZOFFSETTO:+0100
TZNAME:CET
DTSTART:20251026T010000
END:STANDARD
END:VTIMEZONE
BEGIN:VEVENT
DTSTART;VALUE=DATE:20250907
DTEND;VALUE=DATE:20250908
DTSTAMP:20260422T024324
CREATED:20250415T103650Z
LAST-MODIFIED:20250708T080921Z
UID:10000058-1757203200-1757289599@www.sitheux.be
SUMMARY:Parcours littéraire à Becco
DESCRIPTION:Village de Becco
URL:http://www.sitheux.be/event/parcours-litteraire-a-becco/
LOCATION:Village de Becco\, Becco-Village 24\, Theux\, 4910
ORGANIZER;CN="Les Beccotis":MAILTO:beccotis@gmail.com
END:VEVENT
BEGIN:VEVENT
DTSTART;VALUE=DATE:20250906
DTEND;VALUE=DATE:20250908
DTSTAMP:20260422T024324
CREATED:20250415T103444Z
LAST-MODIFIED:20260113T095959Z
UID:10000057-1757116800-1757289599@www.sitheux.be
SUMMARY:Kermesse de Becco
DESCRIPTION:Village de Becco
URL:http://www.sitheux.be/event/kermesse-de-becco/
LOCATION:Village de Becco\, Becco-Village 24\, Theux\, 4910
ATTACH;FMTTYPE=image/png:http://www.sitheux.be/wp-content/uploads/2025/04/Kermesse-general.png
ORGANIZER;CN="Les Beccotis":MAILTO:beccotis@gmail.com
END:VEVENT
END:VCALENDAR