BEGIN:VCALENDAR
VERSION:2.0
PRODID:-//Theux Tourisme - ECPv6.10.2//NONSGML v1.0//EN
CALSCALE:GREGORIAN
METHOD:PUBLISH
X-WR-CALNAME:Theux Tourisme
X-ORIGINAL-URL:http://www.sitheux.be
X-WR-CALDESC:Évènements pour Theux Tourisme
REFRESH-INTERVAL;VALUE=DURATION:PT1H
X-Robots-Tag:noindex
X-PUBLISHED-TTL:PT1H
BEGIN:VTIMEZONE
TZID:Europe/Brussels
BEGIN:DAYLIGHT
TZOFFSETFROM:+0100
TZOFFSETTO:+0200
TZNAME:CEST
DTSTART:20250330T010000
END:DAYLIGHT
BEGIN:STANDARD
TZOFFSETFROM:+0200
TZOFFSETTO:+0100
TZNAME:CET
DTSTART:20251026T010000
END:STANDARD
END:VTIMEZONE
BEGIN:VEVENT
DTSTART;TZID=Europe/Brussels:20250606T120000
DTEND;TZID=Europe/Brussels:20250610T210000
DTSTAMP:20260422T232756
CREATED:20250415T084948Z
LAST-MODIFIED:20260113T094331Z
UID:10000040-1749211200-1749589200@www.sitheux.be
SUMMARY:Kermesse de Juslenville
DESCRIPTION:Juslenville Attractions
URL:http://www.sitheux.be/event/kermesse-de-juslenville/
LOCATION:Devant la gare de Juslenville\, Rue de la Gare\, Theux\, Liège\, 4910\, Belgium
ATTACH;FMTTYPE=image/png:http://www.sitheux.be/wp-content/uploads/2025/04/Kermesse-general.png
ORGANIZER;CN="Juslenville Attractions":MAILTO:aurelie.kaye@gmail.com
END:VEVENT
END:VCALENDAR