BEGIN:VCALENDAR
VERSION:2.0
PRODID:-//Theux Tourisme - ECPv6.10.2//NONSGML v1.0//EN
CALSCALE:GREGORIAN
METHOD:PUBLISH
X-ORIGINAL-URL:http://www.sitheux.be
X-WR-CALDESC:Évènements pour Theux Tourisme
REFRESH-INTERVAL;VALUE=DURATION:PT1H
X-Robots-Tag:noindex
X-PUBLISHED-TTL:PT1H
BEGIN:VTIMEZONE
TZID:Europe/Brussels
BEGIN:DAYLIGHT
TZOFFSETFROM:+0100
TZOFFSETTO:+0200
TZNAME:CEST
DTSTART:20250330T010000
END:DAYLIGHT
BEGIN:STANDARD
TZOFFSETFROM:+0200
TZOFFSETTO:+0100
TZNAME:CET
DTSTART:20251026T010000
END:STANDARD
END:VTIMEZONE
BEGIN:VEVENT
DTSTART;TZID=Europe/Brussels:20250725T100000
DTEND;TZID=Europe/Brussels:20250727T190000
DTSTAMP:20260426T052150
CREATED:20250707T123651Z
LAST-MODIFIED:20250707T123651Z
UID:10000275-1753437600-1753642800@www.sitheux.be
SUMMARY:Le Village de Tigrou
DESCRIPTION:Une journée d’aventure et de jeux pour les enfants – Le Village Gonflable du Paradis de Tigrou est l’endroit idéal pour une demi-journée d’amusement en famille avec cette fois-ci un parcours long de 60 mètres 😱 \n𝐇𝐨𝐫𝐚𝐢𝐫𝐞𝐬 : 10 h – 14 h ou 15 h – 19 h \n𝐀̂𝐠𝐞 : 2 à 12 ans \n𝐏𝐚𝐫𝐤𝐢𝐧𝐠 : Accessible en face de l’entrée \nLes adultes accompagnants ne paient pas l’entrée pour le village. \n𝐀𝐜𝐭𝐢𝐯𝐢𝐭𝐞́𝐬 𝐢𝐧𝐜𝐥𝐮𝐬𝐞𝐬 : \n\nZone gonflable spéciale tous-petits (2–4 ans)\nParcours de 60 m et châteaux gonflables\nModule de jeux avec balançoire et toboggan\nPiste de pétanque pour petits et grands\nTerrasse Rooftop avec espace détente pour les parents\nPetite restauration et bar :\nPain saucisse\, boulette\nAssiette apéritive\nPopcorn\, barbe à papa\, granita\, glaces\n\n𝐎𝐩𝐭𝐢𝐨𝐧𝐬 : \n𝐁𝐞𝐛𝐞́𝐬 𝐧𝐚𝐠𝐞𝐮𝐫𝐬 : \n\n10h- 10h30 (pour les 3 à 12 mois)\n10h30-11h (pour les 12 à 24 mois)\n11h-11h30 (pour les 24 à 36 mois)\n\n𝐀𝐜𝐜𝐞̀𝐬 𝐩𝐢𝐬𝐜𝐢𝐧𝐞 (𝐚𝐩𝐫𝐞̀𝐬 𝟏𝟏 𝐡 𝟑𝟎) : \n\n30 min pour les 2–4 ans (accompagnés obligatoirement)\n1 h pour les 4–12 ans\n\n𝐁B𝐐 (𝐬𝐮𝐫 𝐫𝐞́𝐬𝐞𝐫𝐯𝐚𝐭𝐢𝐨𝐧 𝐮𝐧𝐢𝐪𝐮𝐞𝐦𝐞𝐧𝐭) : \n\nAdultes : 27.50€\, enfants : 15.00€\nLe vendredi et samedi (midi ou soir). Profitez en exclusivité du village jusque 20h30.\nDimanche : uniquement le midi\n\n🛑 𝐑𝐄̀𝐆𝐋𝐄𝐌𝐄𝐍𝐓 𝐃𝐄 𝐋’𝐄́𝐕𝐄́𝐍𝐄𝐌𝐄𝐍𝐓 🛑 \n✅ Nourriture et boissons extérieures interdites. \n✅ Les enfants restent sous la responsabilité de leurs parents. \n✅ Les animaux ne sont pas autorisés. \n  \nEn collaboration avec \n\nEsthetic For You\nLes Salaisons d’Hodbomont\nMarco Presto\n\nRéservation indispensable \nParadis de Tigrou
URL:http://www.sitheux.be/event/le-village-de-tigrou/
LOCATION:Salon Esthetic For You\, Rue Hovémont 40\, Theux\, 4910
ATTACH;FMTTYPE=image/png:http://www.sitheux.be/wp-content/uploads/2025/07/village-tigrou-25.png
ORGANIZER;CN="Paradis de Tigrou":MAILTO:info@leparadisdetigrou.be
END:VEVENT
END:VCALENDAR