BEGIN:VCALENDAR
VERSION:2.0
PRODID:-//Theux Tourisme - ECPv6.10.2//NONSGML v1.0//EN
CALSCALE:GREGORIAN
METHOD:PUBLISH
X-WR-CALNAME:Theux Tourisme
X-ORIGINAL-URL:https://www.sitheux.be
X-WR-CALDESC:Évènements pour Theux Tourisme
REFRESH-INTERVAL;VALUE=DURATION:PT1H
X-Robots-Tag:noindex
X-PUBLISHED-TTL:PT1H
BEGIN:VTIMEZONE
TZID:Europe/Brussels
BEGIN:DAYLIGHT
TZOFFSETFROM:+0100
TZOFFSETTO:+0200
TZNAME:CEST
DTSTART:20260329T010000
END:DAYLIGHT
BEGIN:STANDARD
TZOFFSETFROM:+0200
TZOFFSETTO:+0100
TZNAME:CET
DTSTART:20261025T010000
END:STANDARD
BEGIN:DAYLIGHT
TZOFFSETFROM:+0100
TZOFFSETTO:+0200
TZNAME:CEST
DTSTART:20270328T010000
END:DAYLIGHT
BEGIN:STANDARD
TZOFFSETFROM:+0200
TZOFFSETTO:+0100
TZNAME:CET
DTSTART:20271031T010000
END:STANDARD
END:VTIMEZONE
BEGIN:VEVENT
DTSTART;TZID=Europe/Brussels:20260501T100000
DTEND;TZID=Europe/Brussels:20260501T180000
DTSTAMP:20260423T182753
CREATED:20250424T090524Z
LAST-MODIFIED:20260113T123920Z
UID:10000446-1777629600-1777658400@www.sitheux.be
SUMMARY:Vie de Château en famille
DESCRIPTION:Venez (re)découvrir le Château de Franchimont en Famille le 1er mai. \nDes activités pour les petits et grands vous seront proposées\, ainsi que des visites guidées et une balade contée. Vous pourrez aussi vous restaurer dans la haute-cour avec un pain saucisse. \nCet événement est entièrement gratuit et co-organisé avec l’Agence Wallone du Patrimoine \nChâteau de Franchimont
URL:https://www.sitheux.be/event/vie-de-chateau-en-famille/2026-05-01/
LOCATION:Château de Franchimont\, Allée du Château 17\, Theux\, 4910
ATTACH;FMTTYPE=image/png:https://www.sitheux.be/wp-content/uploads/2025/04/vie-de-chateau.png
ORGANIZER;CN="Compagnons de Franchimont":MAILTO:info@chateau-franchimont.be
END:VEVENT
BEGIN:VEVENT
DTSTART;TZID=Europe/Brussels:20260829T140000
DTEND;TZID=Europe/Brussels:20260829T220000
DTSTAMP:20260423T182753
CREATED:20250415T091808Z
LAST-MODIFIED:20260203T112751Z
UID:10000041-1788012000-1788040800@www.sitheux.be
SUMMARY:Marathon de Franchimont
DESCRIPTION:Description:\nTrail en solo ou par équipe relais (jusqu’à 4 coureurs).\n21km\, 42 km ou 6 heures de course.\nSur un circuit en boucle de 3.5 km et 140 m de D+. \nLe MARATHON DE FRANCHIMONT\, c’est un trail qui se déroulera selon une formule innovante et quelque peu atypique : pendant six heures maximum\, les traileurs\, en solo ou en équipe relais de 2\, 3 ou 4 coureurs\, vont devoir répéter une magnifique boucle tracée autour du château et dans le bois adjacent. Ils auront choisi\, à l’inscription\, de la parcourir 6 fois pour 21 kilomètres\, 12 fois pour 42 kilomètres\, ou un maximum de fois en 6 heures. A chaque passage sous le chapiteau monté pour la circonstance\, ils pourront passer le relais à un équipier\, sauf s’ils ont décidé de tenter l’aventure en solo bien sûr ! \nLe nombre de dossards est limité\, et il n’y aura pas d’inscription le jour de la course\, mais il reste de la place ! \nConstituez votre équipe et rendez-vous vite sur www.marathondefranchimont.be\, vous y trouverez tous les renseignements nécessaires : prix démocratique\, règlement etc. \nDépart sur le parking du château\, espace couvert\, bar\, barbecue et animation musicale\, les derniers courageux en termineront peu après 22 heures\, mais la fête ne sera pas finie ! \nChâteau de Franchimont
URL:https://www.sitheux.be/event/marathon-de-franchimont/
LOCATION:Château de Franchimont\, Allée du Château 17\, Theux\, 4910
ATTACH;FMTTYPE=image/png:https://www.sitheux.be/wp-content/uploads/2025/04/mdf.png
ORGANIZER;CN="Marathon de Franchimont":MAILTO:y.fransolet@hotmail.com
END:VEVENT
BEGIN:VEVENT
DTSTART;TZID=Europe/Brussels:20261024T193000
DTEND;TZID=Europe/Brussels:20261025T013000
DTSTAMP:20260423T182753
CREATED:20250415T104436Z
LAST-MODIFIED:20260120T143218Z
UID:10000065-1792870200-1792891800@www.sitheux.be
SUMMARY:Marche aux Flambeaux
DESCRIPTION:🏰🔥 Voyagez dans le temps aux Ruines du Château de Franchimont ! 🔥🏰 \nLe 24 octobre\, quand la nuit tombe et que les flammes s’illuminent…les ruines du Château de Franchimont s’éveillent ✨ \nRejoignez-nous pour une marche nocturne à la lueur des flambeaux\, entre pierres chargées d’histoire\, ombres dansantes et ambiance mystérieuse. Un moment hors du temps\, où folklore et légendes se mêlent sous les étoiles 🌙🔥 \nEt parce que la nuit ne fait que commencer…laissez-vous emporter par une soirée festive après la marche : musique\, chaleur humaine et bonne humeur au rendez-vous (réservée aux marcheurs)🍻🎶 \n🛡️ Tenue obligatoireÉvénement costumé :👉 costume médiéval ou franchimontois exigé🚫 déguisements Halloween interdits \n💰 Participation \n\n\nMarche : gratuite \n\n\nFlambeaux : 8 € pour 2 flambeaux (sur réservation)🔥 1 au départ🔥 1 à mi-parcours \n\n\n👉 Venez marcher\, vibrer\, célébrer…Franchimont vous attend ! \nChâteau de Franchimont
URL:https://www.sitheux.be/event/marche-aux-flambeaux/
LOCATION:Château de Franchimont\, Allée du Château 17\, Theux\, 4910
ATTACH;FMTTYPE=image/png:https://www.sitheux.be/wp-content/uploads/2020/02/marche-flambeaux-annuelle.png
ORGANIZER;CN="SI Theux":MAILTO:info@sitheux.be
END:VEVENT
BEGIN:VEVENT
DTSTART;TZID=Europe/Brussels:20270821T110000
DTEND;TZID=Europe/Brussels:20270822T000000
DTSTAMP:20260423T182753
CREATED:20250408T104625Z
LAST-MODIFIED:20260113T104235Z
UID:10000037-1818846000-1818892800@www.sitheux.be
SUMMARY:Foire Médiévale de Franchimont
DESCRIPTION:Oyez\, oyez\, \nLa Foire Médiévale de Franchimont verra sa 27ème édition se dérouler les 21 et 22 août 2027. \nVivement vous revoir en ce week-end médiéval où\, comme à l’accoutumée\, ripailles et fêtes d’époque guideront nos visiteurs dans un voyage dans le 15ème siècle tel que nos ancêtres l’ont connu. \nChâteau de Franchimont
URL:https://www.sitheux.be/event/foire-medievale-de-franchimont/
LOCATION:Château de Franchimont\, Allée du Château 17\, Theux\, 4910
ATTACH;FMTTYPE=image/png:https://www.sitheux.be/wp-content/uploads/2025/04/foire-medievale-general.png
END:VEVENT
END:VCALENDAR