BEGIN:VCALENDAR
VERSION:2.0
PRODID:-//Theux Tourisme - ECPv6.10.2//NONSGML v1.0//EN
CALSCALE:GREGORIAN
METHOD:PUBLISH
X-WR-CALNAME:Theux Tourisme
X-ORIGINAL-URL:https://www.sitheux.be
X-WR-CALDESC:Évènements pour Theux Tourisme
REFRESH-INTERVAL;VALUE=DURATION:PT1H
X-Robots-Tag:noindex
X-PUBLISHED-TTL:PT1H
BEGIN:VTIMEZONE
TZID:Europe/Brussels
BEGIN:DAYLIGHT
TZOFFSETFROM:+0100
TZOFFSETTO:+0200
TZNAME:CEST
DTSTART:20250330T010000
END:DAYLIGHT
BEGIN:STANDARD
TZOFFSETFROM:+0200
TZOFFSETTO:+0100
TZNAME:CET
DTSTART:20251026T010000
END:STANDARD
END:VTIMEZONE
BEGIN:VEVENT
DTSTART;TZID=Europe/Brussels:20250601T170000
DTEND;TZID=Europe/Brussels:20250601T183000
DTSTAMP:20260420T121803
CREATED:20250328T154003Z
LAST-MODIFIED:20250420T092851Z
UID:10000025-1748797200-1748802600@www.sitheux.be
SUMMARY:Concert de 20 violoncelles
DESCRIPTION:Classes de Mme Sophie Pirard aux Académies de Remouchamps\, Spa et Visé\nArtistes de 7 à 77 ans !\nLe concert sera suivi du verre de l’amitié \nEglise de Becco
URL:https://www.sitheux.be/event/concert-violoncelles/
LOCATION:Eglise de Becco\, Becco Village 8\, Theux\, 4910
ATTACH;FMTTYPE=image/png:https://www.sitheux.be/wp-content/uploads/2025/03/concert-violoncelle-becco.png
ORGANIZER;CN="Paroisse de Becco":MAILTO:paroisse@becco.be
END:VEVENT
BEGIN:VEVENT
DTSTART;TZID=Europe/Brussels:20250531T100000
DTEND;TZID=Europe/Brussels:20250928T170000
DTSTAMP:20260420T121803
CREATED:20250420T092537Z
LAST-MODIFIED:20250420T092537Z
UID:10000078-1748685600-1759078800@www.sitheux.be
SUMMARY:Exposition de reproductions du peintre Maurice Denis
DESCRIPTION:Exposition de reproductions photographiques commentées de tableaux du peintre Maurice Denis (1870-1943)\, pionnier du renouveau de l’art chrétien\n12 mois = 12 œuvres \nEglise de Becco
URL:https://www.sitheux.be/event/exposition-de-reproductions-du-peintre-maurice-denis/
LOCATION:Eglise de Becco\, Becco Village 8\, Theux\, 4910
ATTACH;FMTTYPE=image/png:https://www.sitheux.be/wp-content/uploads/2025/04/expo-maurice-denis.png
ORGANIZER;CN="Paroisse de Becco":MAILTO:paroisse@becco.be
END:VEVENT
END:VCALENDAR